BEGIN:VCALENDAR
VERSION:2.0
PRODID:-//butesa//NONSGML iCalendar Export//EN
NAME:Kirchgemeinden Wolkenstein und Schönbrunn
SOURCE;VALUE=URI:https://www.kirchgemeinde-wolkenstein.de/termindata/ics/it
 em/2026070401/termin_2026070401.ics
REFRESH-INTERVAL;VALUE=DURATION:P6H
CALSCALE:GREGORIAN
BEGIN:VTIMEZONE
TZID:Europe/Berlin
BEGIN:DAYLIGHT
TZOFFSETTO:+020000
TZOFFSETFROM:+010000
TZNAME:MESZ
DTSTART:19970330T020000
RRULE:FREQ=YEARLY;BYMONTH=3;BYDAY=-1SU
END:DAYLIGHT
BEGIN:STANDARD
TZOFFSETTO:+010000
TZOFFSETFROM:+020000
TZNAME:MEZ
DTSTART:19971026T030000
RRULE:FREQ=YEARLY;BYMONTH=10;BYDAY=-1SU
END:STANDARD
END:VTIMEZONE
BEGIN:VEVENT
UID:event-2026070401@kirchgemeinde-wolkenstein.de
DTSTAMP:20260322T185450Z
DTSTART;VALUE=DATE:20260704
DTEND;VALUE=DATE:20260711
SUMMARY:Schwesterkirch-Kinderrüstzeit (Anmeldung bis 30.03.2026)
LOCATION:Pfarrscheune Großrückerswalde
URL;VALUE=URI:https://www.kirchgemeinde-wolkenstein.de/termin/2026070401/
IMAGE;VALUE=URI;DISPLAY=BADGE,THUMBNAIL;FMTTYPE=image/jpg:https://www.kirch
 gemeinde-wolkenstein.de/terminmedia/t/450/1/300/300/image.jpg
IMAGE;VALUE=URI;DISPLAY=FULLSIZE;FMTTYPE=image/jpg:https://www.kirchgemeind
 e-wolkenstein.de/terminmedia/t/450/1/1000/1000/image.jpg
DESCRIPTION:Pfarrer/Referent: Dorothea Wendrock und Team \n\nHast du Lust\,
  etwas Neues auszuprobieren? Sechs Kirchgemeinden haben schon einiges geme
 insam unternommen. Jetzt ein Angebot für Kinder: Eine ganze Woche mit Spa
 ß und Abenteuer\, spielen\, baden\, wandern (auch nachts!)\, kreativsein\
 , Unternehmungen und nicht zu vergessen: Spannendes aus der Bibel!\n\n \n
 \nZeitraum: 04. – 10.07.2026\nPreis: 130\,00 € – Sollte es finanziel
 l schwierig sein\, bitte an Dorothea Wendrock wenden\nOrt: Pfarrscheune Gr
 oßrückerswalde\nZielgruppe: 9 – 11 Jahre\nLeitung: Dorothea Wendrock u
 nd Team\nTeilnehmerzahl: 15 bis 25\nAnmeldeschluss: 30.03.2026\nAnmeldung:
  online oder schriftlich in deinem Pfarramt
STYLED-DESCRIPTION;FMTTYPE=text/html:<html><body>\n<table border=\"0\">\n<t
 r><td>Pfarrer/Referent:</td><td>Dorothea Wendrock und Team</td></tr>\n</ta
 ble>\n<div><p>Hast du Lust\, etwas Neues auszuprobieren? Sechs Kirchgemein
 den haben schon einiges gemeinsam unternommen. Jetzt ein Angebot f&uuml\;r
  Kinder: Eine ganze Woche mit Spa&szlig\; und Abenteuer\, spielen\, baden\
 , wandern (auch nachts!)\, kreativsein\, Unternehmungen und nicht zu verge
 ssen: Spannendes aus der Bibel!</p>\n<p>&nbsp\;</p>\n<figure class=\"wp-bl
 ock-table\">\n<table style=\"border-style: none\; border-width: 0px\;\">\n
 <tbody>\n<tr>\n<td>Zeitraum:</td>\n<td><strong>04. &ndash\; 10.07.2026</st
 rong></td>\n</tr>\n<tr>\n<td>Preis:</td>\n<td>130\,00 &euro\; &ndash\; Sol
 lte es finanziell schwierig sein\, bitte an Dorothea Wendrock wenden</td>\
 n</tr>\n<tr>\n<td>Ort:</td>\n<td>Pfarrscheune Gro&szlig\;r&uuml\;ckerswald
 e</td>\n</tr>\n<tr>\n<td>Zielgruppe:</td>\n<td>9 &ndash\; 11 Jahre</td>\n<
 /tr>\n<tr>\n<td>Leitung:</td>\n<td>Dorothea Wendrock und Team</td>\n</tr>\
 n<tr>\n<td>Teilnehmerzahl:</td>\n<td>15 bis 25</td>\n</tr>\n<tr>\n<td>Anme
 ldeschluss:</td>\n<td>30.03.2026</td>\n</tr>\n<tr>\n<td>Anmeldung:</td>\n<
 td><a href=\"https://docs.google.com/forms/d/e/1FAIpQLSehm9iPxjG1vj9egNXSI
 NCBXEOdHpsr2z0rKXoIFRBwu6bgzw/viewform?usp=header\">online</a> oder schrif
 tlich in deinem Pfarramt</td>\n</tr>\n</tbody>\n</table>\n</figure></div>\
 n</body></html>
END:VEVENT
END:VCALENDAR
