BEGIN:VCALENDAR
VERSION:2.0
PRODID:-//butesa//NONSGML iCalendar Export//EN
NAME:Kirchgemeinden Wolkenstein und Schönbrunn
SOURCE;VALUE=URI:https://www.kirchgemeinde-wolkenstein.de/termindata/ics/it
 em/2026050302/termin_2026050302.ics
REFRESH-INTERVAL;VALUE=DURATION:P6H
CALSCALE:GREGORIAN
BEGIN:VTIMEZONE
TZID:Europe/Berlin
BEGIN:DAYLIGHT
TZOFFSETTO:+020000
TZOFFSETFROM:+010000
TZNAME:MESZ
DTSTART:19970330T020000
RRULE:FREQ=YEARLY;BYMONTH=3;BYDAY=-1SU
END:DAYLIGHT
BEGIN:STANDARD
TZOFFSETTO:+010000
TZOFFSETFROM:+020000
TZNAME:MEZ
DTSTART:19971026T030000
RRULE:FREQ=YEARLY;BYMONTH=10;BYDAY=-1SU
END:STANDARD
END:VTIMEZONE
BEGIN:VEVENT
UID:event-2026050302@kirchgemeinde-wolkenstein.de
DTSTAMP:20260418T104333Z
DTSTART;TZID=Europe/Berlin:20260503T130000
DTEND;TZID=Europe/Berlin:20260503T143000
SUMMARY:Festmusik zum 75jähriges Bestehen des Wolkensteiner Posaunenchores
LOCATION:St.-Bartholomäus-Kirche Wolkenstein
GEO:50.655612;13.065428
URL;VALUE=URI:https://www.kirchgemeinde-wolkenstein.de/termin/2026050302/
IMAGE;VALUE=URI;DISPLAY=BADGE,THUMBNAIL;FMTTYPE=image/jpg:https://www.kirch
 gemeinde-wolkenstein.de/terminmedia/t/508/1/300/300/image.jpg
IMAGE;VALUE=URI;DISPLAY=FULLSIZE;FMTTYPE=image/jpg:https://www.kirchgemeind
 e-wolkenstein.de/terminmedia/t/508/1/1000/1000/image.jpg
STYLED-DESCRIPTION;FMTTYPE=text/html:<html><body>\n</body></html>
END:VEVENT
END:VCALENDAR
