BEGIN:VCALENDAR
VERSION:2.0
PRODID:-//butesa//NONSGML iCalendar Export//EN
NAME:Kirchgemeinden Wolkenstein und Schönbrunn
SOURCE;VALUE=URI:https://www.kirchgemeinde-wolkenstein.de/termindata/ics/it
 em/2026022202/termin_2026022202.ics
REFRESH-INTERVAL;VALUE=DURATION:P6H
CALSCALE:GREGORIAN
BEGIN:VTIMEZONE
TZID:Europe/Berlin
BEGIN:DAYLIGHT
TZOFFSETTO:+020000
TZOFFSETFROM:+010000
TZNAME:MESZ
DTSTART:19970330T020000
RRULE:FREQ=YEARLY;BYMONTH=3;BYDAY=-1SU
END:DAYLIGHT
BEGIN:STANDARD
TZOFFSETTO:+010000
TZOFFSETFROM:+020000
TZNAME:MEZ
DTSTART:19971026T030000
RRULE:FREQ=YEARLY;BYMONTH=10;BYDAY=-1SU
END:STANDARD
END:VTIMEZONE
BEGIN:VEVENT
UID:event-2026022202@kirchgemeinde-wolkenstein.de
DTSTAMP:20260222T123100Z
DTSTART;TZID=Europe/Berlin:20260222T100000
SUMMARY:Gottesdienst
LOCATION:Kirche Schönbrunn
GEO:50.653062;13.050147
URL;VALUE=URI:https://www.kirchgemeinde-wolkenstein.de/termin/2026022202/
DESCRIPTION:Pfarrer/Referent: Pfarrer Michael Ahner \nInfo: Kindergottesdie
 nst und Abendmahl
STYLED-DESCRIPTION;FMTTYPE=text/html:<html><body>\n<table border=\"0\">\n<t
 r><td>Pfarrer/Referent:</td><td>Pfarrer Michael Ahner</td></tr>\n<tr><td>I
 nfo:</td><td>Kindergottesdienst und Abendmahl</td></tr>\n</table>\n</body>
 </html>
END:VEVENT
END:VCALENDAR
