BEGIN:VCALENDAR
VERSION:2.0
PRODID:-//butesa//NONSGML iCalendar Export//EN
NAME:Kirchgemeinden Wolkenstein und Schönbrunn
SOURCE;VALUE=URI:https://www.kirchgemeinde-wolkenstein.de/termindata/ics/it
 em/2026011104/termin_2026011104.ics
REFRESH-INTERVAL;VALUE=DURATION:P6H
CALSCALE:GREGORIAN
BEGIN:VTIMEZONE
TZID:Europe/Berlin
BEGIN:DAYLIGHT
TZOFFSETTO:+020000
TZOFFSETFROM:+010000
TZNAME:MESZ
DTSTART:19970330T020000
RRULE:FREQ=YEARLY;BYMONTH=3;BYDAY=-1SU
END:DAYLIGHT
BEGIN:STANDARD
TZOFFSETTO:+010000
TZOFFSETFROM:+020000
TZNAME:MEZ
DTSTART:19971026T030000
RRULE:FREQ=YEARLY;BYMONTH=10;BYDAY=-1SU
END:STANDARD
END:VTIMEZONE
BEGIN:VEVENT
UID:event-2026011104@kirchgemeinde-wolkenstein.de
DTSTAMP:20251222T180303Z
DTSTART;TZID=Europe/Berlin:20260111T111500
SUMMARY:Gemeindeversammlung Kirchgemeinde Wolkenstein
LOCATION:Gemeinschaftshaus Hilmersdorf
GEO:50.673766;13.109632
URL;VALUE=URI:https://www.kirchgemeinde-wolkenstein.de/termin/2026011104/
DESCRIPTION:Im Anschluss an den gemeinsamen Gottesdienst (ca. 11:15 Uhr) \n
 \nDieser Termin ist Teil der Terminreihe „Gemeindeversammlungen 2026“.
 \n\nAm Anfang des Jahres ist die gesamte Gemeinde eingeladen\, zusammenzuk
 ommen und zu hören\, was der Leitung der Gemeinde aktuell am Herzen liegt
  und was unsere Herausforderungen für 2026 sind. Dazu gibt es viele Infor
 mationen. Gleichzeitig ist uns wichtig\, von der Gemeinde zu hören\, an w
 elchen Stellen Gesprächsbedarf besteht. Bitte kommt vorbei!
STYLED-DESCRIPTION;FMTTYPE=text/html:<html><body>\n<div><p>Im Anschluss an 
 den gemeinsamen Gottesdienst (ca. 11:15 Uhr)</p></div>\n<div><p>Dieser Ter
 min ist Teil der Terminreihe „Gemeindeversammlungen 2026“.</p><div><p>
 Am Anfang des Jahres ist die gesamte Gemeinde eingeladen\, zusammenzukomme
 n und zu h&ouml\;ren\, was der Leitung der Gemeinde aktuell am Herzen lieg
 t und was unsere Herausforderungen f&uuml\;r 2026 sind. Dazu gibt es viele
  Informationen. Gleichzeitig ist uns wichtig\, von der Gemeinde zu h&ouml\
 ;ren\, an welchen Stellen Gespr&auml\;chsbedarf besteht. Bitte kommt vorbe
 i!</p></div></div>\n</body></html>
END:VEVENT
END:VCALENDAR
