BEGIN:VCALENDAR
VERSION:2.0
PRODID:-//butesa//NONSGML iCalendar Export//EN
NAME:Kirchgemeinden Wolkenstein und Schönbrunn
SOURCE;VALUE=URI:https://www.kirchgemeinde-wolkenstein.de/termindata/ics/it
 em/2024011903/termin_2024011903.ics
REFRESH-INTERVAL;VALUE=DURATION:P6H
CALSCALE:GREGORIAN
BEGIN:VTIMEZONE
TZID:Europe/Berlin
BEGIN:DAYLIGHT
TZOFFSETTO:+020000
TZOFFSETFROM:+010000
TZNAME:MESZ
DTSTART:19970330T020000
RRULE:FREQ=YEARLY;BYMONTH=3;BYDAY=-1SU
END:DAYLIGHT
BEGIN:STANDARD
TZOFFSETTO:+010000
TZOFFSETFROM:+020000
TZNAME:MEZ
DTSTART:19971026T030000
RRULE:FREQ=YEARLY;BYMONTH=10;BYDAY=-1SU
END:STANDARD
END:VTIMEZONE
BEGIN:VEVENT
UID:event-2024011903@kirchgemeinde-wolkenstein.de
DTSTAMP:20251222T215109Z
DTSTART;TZID=Europe/Berlin:20240119T160000
DTEND;TZID=Europe/Berlin:20240119T183000
SUMMARY:Kinderbibelwoche
LOCATION:Pfarramtsgelände Drebach
URL;VALUE=URI:https://www.kirchgemeinde-wolkenstein.de/termin/2024011903/
IMAGE;VALUE=URI;DISPLAY=BADGE,THUMBNAIL;FMTTYPE=image/jpg:https://www.kirch
 gemeinde-wolkenstein.de/terminmedia/r/7/1/300/300/image.jpg
IMAGE;VALUE=URI;DISPLAY=FULLSIZE;FMTTYPE=image/jpg:https://www.kirchgemeind
 e-wolkenstein.de/terminmedia/r/7/1/1000/1000/image.jpg
DESCRIPTION:Pfarrer/Referent: Kindermissionarin Alexandra Veigel \n\nDieser
  Termin ist Teil der Terminreihe „Kinderbibelwoche 2024 in Drebach“.\n
 \nHerzliche Einladung zur Kinderbibelwoche in Drebach! \n\nDie Kindermiss
 ionarin Alexandra Veigel von der Liebenzeller Mission wird uns durch diese
  Tage führen.\n\nHerzliche Einladung an alle Kinder der 1.-6. Klasse. \n
 \nEin Fahrdienst nach Drebach wird organisiert. Dazu bitte im Pfarramt Sc
 hönbrunn melden unter 037369/9256 oder Michael.Ahner@evlks.de.
STYLED-DESCRIPTION;FMTTYPE=text/html:<html><body>\n<table border=\"0\">\n<t
 r><td>Pfarrer/Referent:</td><td>Kindermissionarin Alexandra Veigel</td></t
 r>\n</table>\n<div><p>Dieser Termin ist Teil der Terminreihe „Kinderbibe
 lwoche 2024 in Drebach“.</p><div><p>Herzliche Einladung zur Kinderbibelw
 oche in Drebach!&nbsp\;</p>\n<p>Die Kindermissionarin Alexandra Veigel von
  der Liebenzeller Mission wird uns durch diese Tage f&uuml\;hren.</p>\n<p>
 Herzliche Einladung an alle Kinder der 1.-6. Klasse.&nbsp\;</p>\n<p>Ein Fa
 hrdienst nach Drebach wird organisiert.&nbsp\;Dazu bitte im Pfarramt Sch&o
 uml\;nbrunn melden unter <a href=\"tel:+49373699256\">037369/9256</a> oder
  <a href=\"mailto:Michael%20Ahner%20&lt\;Michael.Ahner@evlks.de&gt\;\">Mic
 hael.Ahner@evlks.de</a>.</p></div></div>\n</body></html>
END:VEVENT
END:VCALENDAR
